BEGIN:VCALENDAR
VERSION:2.0
PRODID:-//Mirabilia Voyages - ECPv5.1.0//NONSGML v1.0//EN
CALSCALE:GREGORIAN
METHOD:PUBLISH
X-WR-CALNAME:Mirabilia Voyages
X-ORIGINAL-URL:https://mirabiliavoyages.com
X-WR-CALDESC:Évènements pour Mirabilia Voyages
BEGIN:VTIMEZONE
TZID:Europe/Paris
BEGIN:DAYLIGHT
TZOFFSETFROM:+0100
TZOFFSETTO:+0200
TZNAME:CEST
DTSTART:20230326T010000
END:DAYLIGHT
BEGIN:STANDARD
TZOFFSETFROM:+0200
TZOFFSETTO:+0100
TZNAME:CET
DTSTART:20231029T010000
END:STANDARD
END:VTIMEZONE
BEGIN:VEVENT
DTSTART;VALUE=DATE:20230609
DTEND;VALUE=DATE:20230613
DTSTAMP:20260422T013522
CREATED:20230318T160815Z
LAST-MODIFIED:20230318T160815Z
UID:1879-1686268800-1686614399@mirabiliavoyages.com
SUMMARY:LE BOURBONNAIS : châteaux et  villes thèrmales
DESCRIPTION:DU 9 AU 12 JUIN 2023  avec Josette THABUIS \nTerre des villages bucoliques parfois classés et des châteaux à perte de vue qui témoignent d’un remarquable patrimoine historique marqué par l’empreinte des ducs de Bourbon. Cette terre donna huit rois à la France !  Cette flânerie au bord de l’Allier vous conduit  à travers un paysage exceptionnel de Moulins\, la Capitale du Bourbonnais historique avec ses hôtels particuliers\, à la Prieurale de Souvigny et aux châteaux du Vieux-Botz ou celui de Lapalisse\, du nom du célèbre Monsieur de La Palice\, le ministre d’Henri IV\, …. pour se terminer à Vichy \, la reine des villes d’eaux      \n\nVous aimerez  \n\nle patrimoine exceptionnel  \nles tables campagnardes de l’Allier   \n\n  Les + MIRABILIA \n\n3 nuits dans un seul hôtel dans la campagne\nun itinéraire à rythme doux   \n\nPRIX :  \n1 190.00 EUR  par personne\, base chambre double  train au départ de Paris     \n Télécharger  LE PROGRAMME   ESCAPADE EN BOURBONNAIS     \n  \n\n  \n
URL:https://mirabiliavoyages.com/event/le-bourbonnais-chateaux-et-villes-thermales/
CATEGORIES:Escapade
ATTACH;FMTTYPE=image/jpeg:https://mirabiliavoyages.com/wp-content/uploads/2023/03/bourbon-l-archambault-ville.jpg
END:VEVENT
END:VCALENDAR