BEGIN:VCALENDAR
VERSION:2.0
PRODID:-//Mirabilia Voyages - ECPv5.1.0//NONSGML v1.0//EN
CALSCALE:GREGORIAN
METHOD:PUBLISH
X-WR-CALNAME:Mirabilia Voyages
X-ORIGINAL-URL:https://mirabiliavoyages.com
X-WR-CALDESC:Évènements pour Mirabilia Voyages
BEGIN:VTIMEZONE
TZID:Europe/Paris
BEGIN:DAYLIGHT
TZOFFSETFROM:+0100
TZOFFSETTO:+0200
TZNAME:CEST
DTSTART:20230326T010000
END:DAYLIGHT
BEGIN:STANDARD
TZOFFSETFROM:+0200
TZOFFSETTO:+0100
TZNAME:CET
DTSTART:20231029T010000
END:STANDARD
END:VTIMEZONE
BEGIN:VEVENT
DTSTART;VALUE=DATE:20230508
DTEND;VALUE=DATE:20230516
DTSTAMP:20260422T030646
CREATED:20221111T132627Z
LAST-MODIFIED:20221111T135215Z
UID:1865-1683504000-1684195199@mirabiliavoyages.com
SUMMARY:ROUMANIE  : DANS LE SUD-EST ROUMAIN SUR LES PAS DE CONSTANTIN BRANCUSI
DESCRIPTION:DU 8 au 15 MAI 2023  avec André PALEOLOGUE \nConnue surtout pour les fresques qui couvrent les façades de ses églises de Bucovine sinon pour l’inédit de son architecture en bois de Transylvanie\, la Roumanie est aussi la terre de naissance de Constantin Brancusi – éminent représentant de l’Avant-garde parisienne dont l’œuvre a bouleversé notre perception de la sculpture. L’incursion que nous proposons dans le Sud-Ouest roumain\, nous fera mieux comprendre les sources d’inspirations et les audaces du célèbre sculpteur. Nous allons admirer l’ensemble monumental qu’il a érigé en 1938 à Târgu-Jiu\, mais également\, dans cette même région\, les vestiges des Daces vaincus par les Romains\, un nombre de vénérables couvents orthodoxes et les trésors artistiques que les musées de Roumanie gardent précieusement. Une rare occasion de saisir la cohérence de notre civilisation européenne qui s’est exprimée en ces lieux de la latinité aux confins est de notre vieux continent. \nJ 1 PARIS – BUCAREST – RAMNICU VALCEA    : LA ROUMANIE ET L’ESPACE SUD-EST EUROPEEN \nJ 2 RAMNICU VALCEA – MONASTERE HUREZI – DEVA (par le col de Rânca)  :  HISTOIRE ET SPIRITUALITE EN VALACHIE 1 \nJ 3 DEVA – SARMISEGETUSA REGIA – DENSUS – DEVA :  LA DACO-ROMANIE ET L’HERITAGE LATIN A L’EST DE L’EUROPE \nJ 4 DEVA – CURTISOARA – TARGU JIU – MALDARESTI :  LES SOURCES ROUMAINES DE L’ŒUVRE DE BRANCUSI \nJ 5 MALDARESTI – SLATIOARA – CRAIOVA :  ECHANTILLONS DE CIVILISATION VILLAGEOISE DANS LE PIEMONT SUD CARPATIQUE \nJ 6 CRAIOVA – PITESTI – BUCAREST :  BRANCUSI : L’ARTISTE A SES DEBUTS \nJ 7 BUCAREST :  MUSEES D’ART ET D’HISTOIRE BUCARESTOIS ET LEURS TRESORS \nJ 8 BUCAREST – PARIS :  LA SAGA D’UNE CAPITALE BOULVERSEE \n  \nVous aimerez  \n\ndes vols directs \nun circuit inédit\n\n  \nPRIX :  \n1 990.00 EUR  par personne\, base chambre double  avion au départ de Paris \nvoyage garanti avec un minimum de 15 participants   \nTélécharger  LE PROGRAMME    \n  \n
URL:https://mirabiliavoyages.com/event/roumanie-dans-le-sud-est-roumain-sur-les-pas-de-constantin-brancusi/
CATEGORIES:Agenda,Découverte
ATTACH;FMTTYPE=image/jpeg:https://mirabiliavoyages.com/wp-content/uploads/2022/11/the-table-of-silence-g197104288_1920.jpg
END:VEVENT
BEGIN:VEVENT
DTSTART;VALUE=DATE:20230525
DTEND;VALUE=DATE:20230602
DTSTAMP:20260422T030646
CREATED:20221111T130143Z
LAST-MODIFIED:20221111T135147Z
UID:1859-1684972800-1685663999@mirabiliavoyages.com
SUMMARY:LA CÔTE DALMATE Provinces illyriennes et enjeux européens
DESCRIPTION:DU 25 MAI au 1 JUIN 2023  avec André PALEOLOGUE \nL’itinéraire de ce voyage de Split et Trogir jusqu’à Kotor au Monténégro\, épouse les contours de ce qui a constitué sous l’empire napoléonien « les Provinces illyriennes »\, entre 1808 et 1813. Le thème est donné\, mais ce séjour nous permettra aussi de découvrir à travers les sites visités\, l’Histoire et les histoires de cette région qui a connu de nombreux bouleversements au contact des différentes puissances qui l’ont convoitée à toutes les époques : l’Empire romain aussi bien d’Occident que d’Orient\, la République de Venise\, l’Empire Ottoman\, l’Empire napoléonien l’Empire des Habsbourg et austro-hongrois\, jusqu’à l’éclatement de la Yougoslavie \n  \nJ 1 PARIS – SPLIT  : La Côte dalmate et l’histoire européenne \nJ 2 SPLIT – TROGIR – KLIS – SPLIT  Patrimoine mondial sur la Côte dalmate \nJ 3 SPLIT – VELA LUKA (KORCULA) La Côte dalmate et son archipel \nJ 4 KORCULA (OREBIC) – STON – DUBROVNIK  La Côte dalmate – des Provinces Illyriennes à la Croatie yougoslave \nJ 5 DUBROVNIK   Raguse (Dubrovnik) et ses heures de gloire  \nJ 6 DUBROVNIK – KOTOR  Kotor (Cataro) – emplacement stratégique des Provinces Illyriennes \nJ 7 KOTOR – LAC SKODER (CETINJE) – KOTOR   Kotor et son destin yougoslave et monténégrin \nJ 8 KOTOR – PERAST – DUBROVNIK – PARIS   Traditions et histoire dans la baie de Kotor \nVous aimerez  \n\ndes vols directs \npaysages remarquables et cités mémorables inscrites sur la liste du Patrimoine mondial de l’UNESCO\n\nPRIX :  \n2 250.00 EUR  par personne\, base chambre double  avion au départ de Paris \nvoyage garanti avec un minimum de 15 participants   \nTélécharger  LE PROGRAMME    \n  \n
URL:https://mirabiliavoyages.com/event/la-cote-dalmate-provinces-illyriennes-et-enjeux-europeens/
CATEGORIES:Agenda,Evasion
ATTACH;FMTTYPE=image/jpeg:https://mirabiliavoyages.com/wp-content/uploads/2022/11/dubrovnik-g38870b1e2_1920.jpg
END:VEVENT
END:VCALENDAR