BEGIN:VCALENDAR
VERSION:2.0
PRODID:-//Mirabilia Voyages - ECPv5.1.0//NONSGML v1.0//EN
CALSCALE:GREGORIAN
METHOD:PUBLISH
X-WR-CALNAME:Mirabilia Voyages
X-ORIGINAL-URL:https://mirabiliavoyages.com
X-WR-CALDESC:Évènements pour Mirabilia Voyages
BEGIN:VTIMEZONE
TZID:Europe/Paris
BEGIN:DAYLIGHT
TZOFFSETFROM:+0100
TZOFFSETTO:+0200
TZNAME:CEST
DTSTART:20220327T010000
END:DAYLIGHT
BEGIN:STANDARD
TZOFFSETFROM:+0200
TZOFFSETTO:+0100
TZNAME:CET
DTSTART:20221030T010000
END:STANDARD
END:VTIMEZONE
BEGIN:VEVENT
DTSTART;VALUE=DATE:20220921
DTEND;VALUE=DATE:20220928
DTSTAMP:20260422T163404
CREATED:20220226T170735Z
LAST-MODIFIED:20220226T170735Z
UID:1813-1663718400-1664323199@mirabiliavoyages.com
SUMMARY:Romantisme au bord des lacs italiens
DESCRIPTION:Bordés par une multitude de petits bourgs\, de châteaux\, de monastères et de villages anciens\, les lacs italiens affichent tous une personnalité bien marquée.  Lac de Garde\, le lac Majeur et le lac de Côme et tous les lacs mineurs\, où\, par l’effet d’une grâce particulière\, la nature\, l’histoire et le goût des hommes semblent s’être mis d’accord pour dessiner un immense parc à la fois bien ordonné et agréablement fantaisiste : un jardin à l’italienne en somme avec des statues antiques\, ce qu’il faut de frontons baroques\, de colonnes de marbre et de petites chapelles au sommet des collines. Des cyprès pour remplacer les topiaires\, des lacs en guise de bassins et\, pour les jeux d’eau\, des rivières et des torrents. \navec Josette THABUIS \nVous aimerez \n\nLa douceur des paysages\nLa grâce des lieux\nArt et art de vivre\n\n Les + MIRABILIA \n\nCircuit animé par un conférencier historien de l’art\nCircuit clefs en main à rythme doux  en autocar\, bateaux privés et ferries\nFormule terrestre hors transport\, départ d’autres villes et extension possible sur demande\n\nJOUR par JOUR :   \nJ 1. –  LAC D’ORTA  – LAC MAJEUR  \nJ 2. –  ILES BORROMEES  \nJ 3. –  COME ET SON LAC  \nJ 4. –  BELLAGIO \nJ 5. – VARENNA ET TRESCORE \nJ 6. – BRESCIA ET SIRMIONE \nJ 7. – GARDONE ET LE VITTORIALE  \n  \nPRIX : à partir de 1 670.00 EUR   par personne\, base chambre double \nLE PROGRAMME LACS ITALIENS \nLE BULLETIN D’INSCRIPTION  au 01 39 10 61 50   \n
URL:https://mirabiliavoyages.com/event/romantisme-au-bord-des-lacs-italiens/
CATEGORIES:Evasion
ATTACH;FMTTYPE=image/jpeg:https://mirabiliavoyages.com/wp-content/uploads/2022/02/italy-g82dea8e69_1920.jpg
END:VEVENT
END:VCALENDAR