BEGIN:VCALENDAR
VERSION:2.0
PRODID:-//Mirabilia Voyages - ECPv5.1.0//NONSGML v1.0//EN
CALSCALE:GREGORIAN
METHOD:PUBLISH
X-WR-CALNAME:Mirabilia Voyages
X-ORIGINAL-URL:https://mirabiliavoyages.com
X-WR-CALDESC:Évènements pour Mirabilia Voyages
BEGIN:VTIMEZONE
TZID:Europe/Paris
BEGIN:DAYLIGHT
TZOFFSETFROM:+0100
TZOFFSETTO:+0200
TZNAME:CEST
DTSTART:20220327T010000
END:DAYLIGHT
BEGIN:STANDARD
TZOFFSETFROM:+0200
TZOFFSETTO:+0100
TZNAME:CET
DTSTART:20221030T010000
END:STANDARD
END:VTIMEZONE
BEGIN:VEVENT
DTSTART;VALUE=DATE:20220520
DTEND;VALUE=DATE:20220528
DTSTAMP:20260422T233804
CREATED:20201012T150343Z
LAST-MODIFIED:20220228T152320Z
UID:1423-1653004800-1653695999@mirabiliavoyages.com
SUMMARY:ALBANIE
DESCRIPTION:un pays\, une histoire\, un héros\nD’une surface pas plus grande que celle de la Bretagne\, l’Albanie est un pays de montagnes\, de lacs\, de rivières et de la mer. Sur ce territoire\, les traditions aussi bien méditerranéennes que balkaniques sont perpétuées par un peuple fier de ses origines illyriennes et qui\, en dépit de toutes les vicissitudes de l’histoire qui se sont abattues sur ces régions de l’Europe\, a résisté vaillamment depuis l’Empire romain jusqu’à celui des Ottomans. Ainsi\, les Albanais d’aujourd’hui ont hérité d’un patrimoine riche de vestiges romains\, byzantins\, ottomans malmenés\, hélas\, durant un demi-siècle de dictature stalinienne\, mais qui\, depuis plusieurs décennies déjà\, est en cours d’être sauvegardés. Traverser ce pays en empruntant un tronçon de la fameuse via Egnatia serait une occasion unique de compléter et d’affiner l’image que l’on devrait avoir de la civilisation pour le moins exceptionnelle qui s’est épanouie sur notre vieux continent. \navec André PALEOLOGUE \n\n			\n				\n			\n			\n				\n			\n			\n				\n			\n		\n\nVous aimerez \n\nDes paysages pittoresques\nUn patrimoine exceptionnel\nUne thématique hautement culturelle\n\n Les + MIRABILIA \n\nCircuit animé par un conférencier historien\nCircuit clefs en main à rythme doux\nFormule terrestre hors transport\, départ d’autres villes et extension possible sur demande\n\nJOUR par JOUR :   \nJ 1. –  PARIS – TIRANA  \nJ 2. – TIRANA – DURRES – ELBASAN (150 km) \nJ 3. –  ELBASAN – POGRADEC ( 90 km ) – MOSCOPOLE (60 KM )- KORCE (25 km ) \nJ 4. – KORCE – PERMET (140 KM ) – GJIROKASTER (65 km ) \nJ 5. – GJIROKASTER – LABOVA E KRYQIT ( 30 km ) – APOLLONIA ( 150 km ) – ARDENICA (25 km ) – BERAT   (60 km ) \nJ 6. – BERAT (0 km) \nJ 7. – BERAT – TIRANA (100 km ) \nJ 8. – TIRANA – KRUJE (45 km ) – PARIS \nPRIX : 1 650.00 EUR   par personne\, base chambre double \nLE PROGRAMME  ALBANIE 22 \nLE BULLETIN D’INSCRIPTION ALBANIE \n
URL:https://mirabiliavoyages.com/event/circuit-albanie/
LOCATION:tirana\, Albanie
CATEGORIES:Découverte
ATTACH;FMTTYPE=image/jpeg:https://mirabiliavoyages.com/wp-content/uploads/2020/10/church-3850766_1920.jpg
END:VEVENT
BEGIN:VEVENT
DTSTART;VALUE=DATE:20220601
DTEND;VALUE=DATE:20220604
DTSTAMP:20260422T233804
CREATED:20220224T175029Z
LAST-MODIFIED:20220226T162837Z
UID:1802-1654041600-1654300799@mirabiliavoyages.com
SUMMARY:LA VALLEE DE LA MEUSE
DESCRIPTION:Royaume de vastes forêts et de monts légendaires\, les Ardennes sont sillonnées par une Meuse toute en courbes et propice à de délicieuses croisières. Dès le Moyen Âge\, c’est une voie de commerce et d’échanges vers les Flandres. Sa canalisation au 19ème siècle va permettre d’intensifier ce trafic marchand jusqu’à l’arrivée du chemin de fer qui va précipiter le déclin du transport fluvial.  \nAu hasard d’une route\, au détour d’une rue\, l’histoire des Ardennes dévoile ses trésors. Le plus vaste château fort d’Europe veille sur Sedan où naquit le vicomte de Turenne qui participa à toutes les guerres de Louis XIV. Charleville-Mézières\, patrie de Rimbaud\, la Place Ducale\, joyau d’architecture\, offre ses douces arcades au promeneur\, Dinant charmante citadelle belge qui invite à la croisière.  \nCette terre\, de Charleville\, à Juniville\, de Roche à Bouillon\, fut également parcourue par deux enfants terribles du pays\, Arthur Rimbaud et Paul Verlaine. Ces poètes seront à l’image de cette Ardenne\, insoumise et rebelle. \nVous aimerez \n\nDes forêts légendaires\nUn patrimoine exceptionnel\nUne thématique littéraire\n\n Les + MIRABILIA \n\nCircuit animé par un conférencier historien de l’art\nCircuit clefs en main à rythme doux\nune croisière privative entre France et Belgique\n\nJOUR par JOUR :   \n JOUR 1 PARIS – RETHEL – CHARLEVILLE MEZIERES – SEDAN  250 km \nJOUR 2 SEDAN – DINANT – CROISIERE    DINANT – SEDAN  180 km ar \nJOUR 3 SEDAN – LES TRACES DE RIMBAUD ET VERLAINE – PARIS 300 km \nPRIX : à partir de 790.00 eur par personne\, base chambre double \n  \nvallee de la Meuse\nLE PROGRAMME  MEUSE 3 J \nLE BULLETIN  MEUSE  \n  \n
URL:https://mirabiliavoyages.com/event/la-vallee-de-la-meuse/
CATEGORIES:Agenda,Evasion
ATTACH;FMTTYPE=image/jpeg:https://mirabiliavoyages.com/wp-content/uploads/2022/02/dinant-gd2be71152_1920.jpg
END:VEVENT
END:VCALENDAR