BEGIN:VCALENDAR
VERSION:2.0
PRODID:-//Mirabilia Voyages - ECPv5.1.0//NONSGML v1.0//EN
CALSCALE:GREGORIAN
METHOD:PUBLISH
X-WR-CALNAME:Mirabilia Voyages
X-ORIGINAL-URL:https://mirabiliavoyages.com
X-WR-CALDESC:Évènements pour Mirabilia Voyages
BEGIN:VTIMEZONE
TZID:Europe/Paris
BEGIN:DAYLIGHT
TZOFFSETFROM:+0100
TZOFFSETTO:+0200
TZNAME:CEST
DTSTART:20210328T010000
END:DAYLIGHT
BEGIN:STANDARD
TZOFFSETFROM:+0200
TZOFFSETTO:+0100
TZNAME:CET
DTSTART:20211031T010000
END:STANDARD
END:VTIMEZONE
BEGIN:VEVENT
DTSTART;VALUE=DATE:20210611
DTEND;VALUE=DATE:20210614
DTSTAMP:20260423T174807
CREATED:20210318T134919Z
LAST-MODIFIED:20210506T075632Z
UID:1591-1623369600-1623628799@mirabiliavoyages.com
SUMMARY:BALADE CHEZ LES PEINTRES
DESCRIPTION:Escapade passionnante et conviviale dans la vallée du Lot\, pour s’approcher du patrimoine et de la nature. Avec Jeannette Giannini guide conférencière et aquarelliste occitane\, vous découvrirez les facettes historiques des monuments\, et pour ceux qui le souhaitent comme un véritable peintre dessinateur voyageur\, vous réaliserez votre propre carnet de voyage souvenirs du Lot. En effet\, Jeannette tout en vous expliquant l’histoire du pays\, les saveurs\ngastronomiques\, vous apprendra à saisir un trait\, une perspective\, une ambiance…\nDébutant ou non au dessin\, juste pour le plaisir\, votre carnet se remplira d’émotions\, d’anecdotes\, de croquis de photos et s’inscrira dans l’histoire du pays. \nVous aimerez  \n\n2 nuits  au Logis HOTEL LA CHARTREUSE CAHORS – 5 minutes à pied de la cité médiévale\nLe marche pittoresque à CAHORS\nune autre façon de visiter …flânerie culturelle et conviviale  \nla découverte de votre fibre artistique avec le soutien de notre conférencière – aquarelliste et  le support de notre kit carnet de voyage offert \n\n Les + MIRABILIA \n\nhébergement à 5 min. à pied de la cité médiévale \nFormule terrestre hors transport\, départ d’autres villes que Paris et extension possible sur demande\n\nJOUR par JOUR :   \nJour 1 : CAHORS  promenade nocturne \nJour 2 : CAHORS Marché et PROMENADE CULTURELLE    \nJour 3 :  SAINT CIRQUE LAPOPIE  \nPRIX : à partir de  540.00 EUR   par personne\, base chambre double  rendez-vous sur place   – voyage garanti avec un minimum de 12 participants   \nTélécharger  LE PROGRAMME CAHORS \n
URL:https://mirabiliavoyages.com/event/balade-chez-les-peintres/
LOCATION:CAHORS\, France
CATEGORIES:Escapade
ATTACH;FMTTYPE=image/jpeg:https://mirabiliavoyages.com/wp-content/uploads/2021/03/bridge-2014419_1920.jpg
END:VEVENT
END:VCALENDAR