BEGIN:VCALENDAR
VERSION:2.0
PRODID:-//Mirabilia Voyages - ECPv5.1.0//NONSGML v1.0//EN
CALSCALE:GREGORIAN
METHOD:PUBLISH
X-WR-CALNAME:Mirabilia Voyages
X-ORIGINAL-URL:https://mirabiliavoyages.com
X-WR-CALDESC:Évènements pour Mirabilia Voyages
BEGIN:VTIMEZONE
TZID:Europe/Paris
BEGIN:DAYLIGHT
TZOFFSETFROM:+0100
TZOFFSETTO:+0200
TZNAME:CEST
DTSTART:20200329T010000
END:DAYLIGHT
BEGIN:STANDARD
TZOFFSETFROM:+0200
TZOFFSETTO:+0100
TZNAME:CET
DTSTART:20201025T010000
END:STANDARD
END:VTIMEZONE
BEGIN:VEVENT
DTSTART;TZID=Europe/Paris:20201206T080000
DTEND;TZID=Europe/Paris:20201208T170000
DTSTAMP:20260424T040517
CREATED:20200724T140159Z
LAST-MODIFIED:20200724T141359Z
UID:1384-1607241600-1607446800@mirabiliavoyages.com
SUMMARY:VIENNE  FEERIQUE
DESCRIPTION:avec Josette THABUIS  \nVienne au romantisme rétro\, revêtue de ses plus beaux costumes de fête. Un festival de chants de Noël\, de couleurs\, de saveurs et d’effluves de vin aux épices\, mais aussi de guirlandes et de lumières qui s’illuminent dès que la nuit tombe.  Boules rouges géantes sur la Rotenturmstrasse\, immenses lustres en cristal sur le Graben\, énorme sapin décoré sur la place de l’Hôtel de ville et l’écho de célèbres  notes musicales agrémentent la splendeur baroque et Art nouveau des hauts-lieux  à visiter de l’Empire Austro-Hongrois dans la férie des marchés de Noel . \nVous aimerez \n\nL’offre musicale\nLes Grands Musées de VIENNE\nL’ambiance féerique de Décembre\n\n Les + MIRABILIA \n\nUn concert à l’Eglise monumentale St Charles de Borromées\nFormule terrestre hors transport\, départ d’autres villes et extension possible sur demande\n\nJOUR par JOUR :   \nJour 1 : VIENNE CŒUR DE VILLE  \nJour 2 : VIENNE COLLECTIONS A VOIR ET REVOIR    \nJour 3 : SENTEURS ET SAVEURS DES MARCHES DE NOEL  \n  \nPRIX : 750.00 EUR   par personne\, base chambre double \nRECEVOIR LA FICHE TECHNIQUE : https://mirabiliavoyages.com/contact/ \n
URL:https://mirabiliavoyages.com/event/vienne-feerique/
CATEGORIES:Escapade
ATTACH;FMTTYPE=image/jpeg:https://mirabiliavoyages.com/wp-content/uploads/2020/07/vienna-3880488_1920.jpg
END:VEVENT
END:VCALENDAR