BEGIN:VCALENDAR
VERSION:2.0
PRODID:-//Mirabilia Voyages - ECPv5.1.0//NONSGML v1.0//EN
CALSCALE:GREGORIAN
METHOD:PUBLISH
X-WR-CALNAME:Mirabilia Voyages
X-ORIGINAL-URL:https://mirabiliavoyages.com
X-WR-CALDESC:Évènements pour Mirabilia Voyages
BEGIN:VTIMEZONE
TZID:Europe/Paris
BEGIN:DAYLIGHT
TZOFFSETFROM:+0100
TZOFFSETTO:+0200
TZNAME:CEST
DTSTART:20200329T010000
END:DAYLIGHT
BEGIN:STANDARD
TZOFFSETFROM:+0200
TZOFFSETTO:+0100
TZNAME:CET
DTSTART:20201025T010000
END:STANDARD
END:VTIMEZONE
BEGIN:VEVENT
DTSTART;TZID=Europe/Paris:20201004T000000
DTEND;TZID=Europe/Paris:20201014T000000
DTSTAMP:20260424T073902
CREATED:20200430T164847Z
LAST-MODIFIED:20200618T182611Z
UID:1193-1601769600-1602633600@mirabiliavoyages.com
SUMMARY:La Via Egnatia
DESCRIPTION:avec  André PALEOLOGUE \nLa Via Egnatia fut une des routes les plus fréquentées de l’Empire romain. Elle reliait Rome à Constantinople – la seconde capitale de l’Empire à partir du IVème siècle en traversant la Macédoine et la Thrace. Route stratégique et militaire\, mais aussi commerciale\, elle est devenue une des voies les plus importantes de la chrétienté. Elle fut parcourue par saint Paul\, par les Croisés et par tous les grands prélats de l’Eglise indivise du 1er millénaire.\nDe Dures à Ohrid\, Bitola et Thessalonique et de là à Istanbul en passant par Kavala et Alexandroupolis\, cette route constitue un enjeu de première taille pour l’Europe d’aujourd’hui. \nVous aimerez \n\nDes paysages hors sentiers battus\nUne grande richesse culturelle des cités historiques d’Albanie et Macédoine\nUn voyage dans l’histoire\nL’immersion dans Constantinople cité byzantine\n\n Les + MIRABILIA \n\nToutes les entrées des sites visités incluses – réservation coupe-file\nL’eau minérale incluse aux repas prévus\nFormule terrestre hors transport\, départ d’autres villes et extension possible sur demande\n\nJOUR par JOUR  \nJour 1 : TIRANA DURRES  \nJour 2 : DURRES PEQIN ELBASAN \nJour 3 : ELBASAN QUKES OHRID \nJour 4 : OHRID BITOLA ARNISA EDESSA \nJour 5 : EDESSA PELLA THESSALONIQUE  \nJour 6 : THESSALONIQUE  \nJour 7 : AMPHIPOLI PHILIPPI KAVALA \nJour 8 : TRAIANOPOLI ALEXANDROUPOLI  \nJour 9 : EDIRNE SILIVRI ISTANBUL \nJour 10 : ISTANBUL  \nJour 11 : ISTANBUL  \nDEMANDER LA FICHE TECHNIQUE : https://mirabiliavoyages.com/contact/ \n
URL:https://mirabiliavoyages.com/event/la-via-egnatia/
CATEGORIES:Histoire
ATTACH;FMTTYPE=image/jpeg:https://mirabiliavoyages.com/wp-content/uploads/2020/04/EGNATIA-ODOS-1.jpg
END:VEVENT
END:VCALENDAR