BEGIN:VCALENDAR
VERSION:2.0
PRODID:-//Mirabilia Voyages - ECPv5.1.0//NONSGML v1.0//EN
CALSCALE:GREGORIAN
METHOD:PUBLISH
X-WR-CALNAME:Mirabilia Voyages
X-ORIGINAL-URL:https://mirabiliavoyages.com
X-WR-CALDESC:Évènements pour Mirabilia Voyages
BEGIN:VTIMEZONE
TZID:Europe/Paris
BEGIN:DAYLIGHT
TZOFFSETFROM:+0100
TZOFFSETTO:+0200
TZNAME:CEST
DTSTART:20200329T010000
END:DAYLIGHT
BEGIN:STANDARD
TZOFFSETFROM:+0200
TZOFFSETTO:+0100
TZNAME:CET
DTSTART:20201025T010000
END:STANDARD
END:VTIMEZONE
BEGIN:VEVENT
DTSTART;TZID=Europe/Paris:20200702T000000
DTEND;TZID=Europe/Paris:20200707T000000
DTSTAMP:20260424T123528
CREATED:20200430T163812Z
LAST-MODIFIED:20200430T165314Z
UID:1184-1593648000-1594080000@mirabiliavoyages.com
SUMMARY:Au Cœur Des Alpes
DESCRIPTION:La RHETIE\, antique province romaine des Alpes centrales qui englobe  le canton suisse des Grisons\, le Nord de l’Italie\, le Tyrol\, le Sud de la Bavière et  l’est du Württemberg. Ce périple débutera à bord du célèbre Bernina Express\, qui depuis cent ans\, traverse sans rechigner le site grandiose des chemins de fer rhétiques\, classé par l’Unesco en 2008.\nDepuis Merano\, havre de paix méditerranéen au milieu des Alpes et très cher à l’impératrice Sissi\,  vous partirez explorer les Dolomites que Le Corbusier décrit comme la plus belle architecture du monde\, avant de plonger dans l’univers des  couleurs tyroliens jusqu’à  l’apothéose baroque du Rêve fou de Louis II de Bavière   \n
URL:https://mirabiliavoyages.com/event/au-coeur-des-alpes/
CATEGORIES:Evasion
ATTACH;FMTTYPE=image/jpeg:https://mirabiliavoyages.com/wp-content/uploads/2020/04/dolomites-ricardo-frantz-sC-BXbi9ajw-unsplash.jpg
END:VEVENT
END:VCALENDAR