BEGIN:VCALENDAR
VERSION:2.0
PRODID:-//Mirabilia Voyages - ECPv5.1.0//NONSGML v1.0//EN
CALSCALE:GREGORIAN
METHOD:PUBLISH
X-WR-CALNAME:Mirabilia Voyages
X-ORIGINAL-URL:https://mirabiliavoyages.com
X-WR-CALDESC:Évènements pour Mirabilia Voyages
BEGIN:VTIMEZONE
TZID:Europe/Paris
BEGIN:DAYLIGHT
TZOFFSETFROM:+0100
TZOFFSETTO:+0200
TZNAME:CEST
DTSTART:20200329T010000
END:DAYLIGHT
BEGIN:STANDARD
TZOFFSETFROM:+0200
TZOFFSETTO:+0100
TZNAME:CET
DTSTART:20201025T010000
END:STANDARD
END:VTIMEZONE
BEGIN:VEVENT
DTSTART;TZID=Europe/Paris:20200606T000000
DTEND;TZID=Europe/Paris:20200614T000000
DTSTAMP:20260424T142226
CREATED:20200429T163948Z
LAST-MODIFIED:20200505T134549Z
UID:1040-1591401600-1592092800@mirabiliavoyages.com
SUMMARY:La Via Francigena
DESCRIPTION:Jadis\, une des routes antiques les plus fréquentées car elle reliait Rome aux provinces situées au nord de l’Empire romain\, la Via Francien – devenue au Moyen-âge la «route des Francs» – fut décrite en 990 de manière extrêmement précise par l’évêque de Canterbury\, Sigerius. Charlemagne l’a empruntée tout comme\, plus tard\, Anselme\, Saint Bernard et Saint François. De même les chevaliers de Flandre et de Bourgogne\, d’Angleterre ou d’Allemagne à l’époque des Croisades. A l’instar des chemins de Compostelle\, la Via Francigena devint route de pèlerinage vers la Ville Eternelle pour les fidèles venant de France\, des Pays-Bas et de Grande Bretagne.\nS’engager aujourd’hui sur la Via francigena suppose non seulement traverser géographiquement l’Europe du Nord au Sud\, mais effectuer un vrai parcours initiatique à travers l’histoire et la culture de notre continent. Au gré des étapes que nous proposons\, les paysages pittoresques des Alpes\, de la vallée d’Aoste et de la Toscane s’ajoutent aux rencontres avec un patrimoine artistique français\, suisse et italien du meilleur cru.  \n
URL:https://mirabiliavoyages.com/event/la-via-francigena/
CATEGORIES:Histoire
ATTACH;FMTTYPE=image/jpeg:https://mirabiliavoyages.com/wp-content/uploads/2020/04/toscane.jpg
END:VEVENT
BEGIN:VEVENT
DTSTART;TZID=Europe/Paris:20200620T000000
DTEND;TZID=Europe/Paris:20200630T000000
DTSTAMP:20260424T142226
CREATED:20200430T163610Z
LAST-MODIFIED:20200618T184208Z
UID:1182-1592611200-1593475200@mirabiliavoyages.com
SUMMARY:La Via Diagonalis
DESCRIPTION:Connue depuis la Haute Antiquité et très fréquentée au Moyen-âge\, la Via diagonalis qui reliait l’ouest et le centre de notre continent aux ports de la Mer Noire\, fut empruntée aussi bien par les légions romaines que par les chevaliers d’occident au temps des Croisades. Ces derniers\, partis des Flandres ou de Venise\, des Royaumes de Hongrie et de Pologne en direction des Balkans en passant par Belgrade\, Sofia ou Tarnovo pour atteindre Varna\, Messembrie et Constantinople\, ont tracé un des axes de communication majeure pour l’Europe. Cette traversée «en diagonale» de l’Europe fut reprise au début du XXe siècle par le trajet de l’Orient express. Jalonné de hauts lieux de mémoire\, de vie spirituelle et culturelle\, la richesse de cet itinéraire ne demande qu’à être redécouverte. \n
URL:https://mirabiliavoyages.com/event/la-via-diagonalis/
CATEGORIES:Histoire
ATTACH;FMTTYPE=image/jpeg:https://mirabiliavoyages.com/wp-content/uploads/2020/04/DIAGO-SOFIA-BG-scaled.jpg
END:VEVENT
END:VCALENDAR