BEGIN:VCALENDAR
VERSION:2.0
PRODID:-//Mirabilia Voyages - ECPv5.1.0//NONSGML v1.0//EN
CALSCALE:GREGORIAN
METHOD:PUBLISH
X-WR-CALNAME:Mirabilia Voyages
X-ORIGINAL-URL:https://mirabiliavoyages.com
X-WR-CALDESC:Évènements pour Mirabilia Voyages
BEGIN:VTIMEZONE
TZID:Europe/Paris
BEGIN:DAYLIGHT
TZOFFSETFROM:+0100
TZOFFSETTO:+0200
TZNAME:CEST
DTSTART:20260329T010000
END:DAYLIGHT
BEGIN:STANDARD
TZOFFSETFROM:+0200
TZOFFSETTO:+0100
TZNAME:CET
DTSTART:20261025T010000
END:STANDARD
END:VTIMEZONE
BEGIN:VEVENT
DTSTART;VALUE=DATE:20261103
DTEND;VALUE=DATE:20261112
DTSTAMP:20260425T222043
CREATED:20250401T150551Z
LAST-MODIFIED:20260122T155956Z
UID:2063-1793664000-1794441599@mirabiliavoyages.com
SUMMARY:LE SULTANAT D'OMAN
DESCRIPTION:avec guide local francophone  \nLe sultanat d’Oman\, longtemps mystérieux\, révèle une diversité de paysages : déserts\, lagunes\, plages immaculées et montagnes verdoyantes. \nCe circuit dévoile les beautés inattendues du sultanat et les secrets les mieux gardés du Moyen-Orient\, en partant de Mascate\, capitale du pays qui attire la lumière des rêveurs éveillés d’un Orient aux parfums d’Arabie Heureuse….. \n \nJ1   PARIS – MASCATE  ✈ \nJ2   MASCATE \nJ3   MASCATE  \nJ4  MASCATE / Al Hazm \nJ5 MASCATE / AL HAMRA / JEBEL SHAMS / NIZWA \nJ6  NIZWA / JABRIN / BAHLA / AL MANZIFAT / WAHIBA    \nJ7  WAHIBA / WADI BANI KHALED / RAS AL JINZ / SUR   \nJ8 SUR / WADI SHAB / BIMMAH SINKHOLE / QURIYAT / MASCATE  \nJ9 MASCATE – PARIS   ✈ \n  \nVous aimerez  \n\nvols directs   \n1 nuit en campement tout confort dans le désert\n1 croisière au large de Mascate\nrencontre avec une famille omanaise\n\nPRIX :  \n2 590.00 EUR  par personne\, base chambre double  avion au départ de Paris \nvoyage garanti avec un minimum de 10 participants   \ndemandez LE PROGRAMME  au 01 39 10 61 50 ou info@mirabilia-voyages.fr  \n  \n  \n
URL:https://mirabiliavoyages.com/event/le-sultanat-doman/
CATEGORIES:Découverte
ATTACH;FMTTYPE=image/jpeg:https://mirabiliavoyages.com/wp-content/uploads/2025/04/OMAN-sunset-3259643_1280.jpg
END:VEVENT
END:VCALENDAR