BEGIN:VCALENDAR
VERSION:2.0
PRODID:-//Mirabilia Voyages - ECPv5.1.0//NONSGML v1.0//EN
CALSCALE:GREGORIAN
METHOD:PUBLISH
X-WR-CALNAME:Mirabilia Voyages
X-ORIGINAL-URL:https://mirabiliavoyages.com
X-WR-CALDESC:Évènements pour Mirabilia Voyages
BEGIN:VTIMEZONE
TZID:Europe/Paris
BEGIN:DAYLIGHT
TZOFFSETFROM:+0100
TZOFFSETTO:+0200
TZNAME:CEST
DTSTART:20260329T010000
END:DAYLIGHT
BEGIN:STANDARD
TZOFFSETFROM:+0200
TZOFFSETTO:+0100
TZNAME:CET
DTSTART:20261025T010000
END:STANDARD
END:VTIMEZONE
BEGIN:VEVENT
DTSTART;VALUE=DATE:20260907
DTEND;VALUE=DATE:20260912
DTSTAMP:20260425T184757
CREATED:20250211T185026Z
LAST-MODIFIED:20260129T153814Z
UID:2059-1788739200-1789171199@mirabiliavoyages.com
SUMMARY:LACS ET CITES D’ART EN LOMBARDIE : Brescia et Bergame
DESCRIPTION:avec Josette THABUIS   \nDerrière les cyprès et les jeux d’eau se cachent aussi des cités discrètes tels la séduisante Brescia qui offre un véritable voyage dans l’histoire de l’Antiquité à la Renaissance\, en passant par les Lombards et Bergame qui conserve à l’intérieur de ses imposants remparts du XVIe siècle ses étroites ruelles pavées de briques\, ses belles demeures en pierre\, ses tours et ses places\, dont la somptueuse Piazza Vecchia qualifiée par Le Corbusier\, de « plus belle place d’Europe ». \n \n \nJ1  PARIS – MILAN – Pavie – Sirmione – Lac de Garde \nJ2  Brescia     \nJ3  Franciacorta – Lac d’Iseo – Trescore \nJ4  Bergame      \nJ5  Lac de Come    \nVous aimerez  \n\nvols directs   \n2 nuits par hôtel\nrythme doux\nalternance de cités culturelles et lacs pour se détendre\n\nPRIX :  \n1 750.00 EUR  par personne\, base chambre double  avion au départ de Paris \nvoyage garanti avec un minimum de 15 participants   \nvoir  LE PROGRAMME  GIR LLOMBARDIE ou contacter le  01 39 10 61 50 ou info@mirabilia-voyages.fr pour obtenir le bulletin d’inscription  \n
URL:https://mirabiliavoyages.com/event/la-lombardie-et-ses-cites-des-ducs/
CATEGORIES:Découverte
ATTACH;FMTTYPE=image/jpeg:https://mirabiliavoyages.com/wp-content/uploads/2025/02/certosa-di-pavia-4048437_1280.jpg
END:VEVENT
END:VCALENDAR